BEGIN:VCALENDAR
VERSION:2.0
PRODID:-//KidsloveQatar - ECPv6.15.20//NONSGML v1.0//EN
CALSCALE:GREGORIAN
METHOD:PUBLISH
X-WR-CALNAME:KidsloveQatar
X-ORIGINAL-URL:https://kidsloveqatar.com
X-WR-CALDESC:Events for KidsloveQatar
REFRESH-INTERVAL;VALUE=DURATION:PT1H
X-Robots-Tag:noindex
X-PUBLISHED-TTL:PT1H
BEGIN:VTIMEZONE
TZID:Asia/Qatar
BEGIN:STANDARD
TZOFFSETFROM:+0300
TZOFFSETTO:+0300
TZNAME:+03
DTSTART:20240101T000000
END:STANDARD
END:VTIMEZONE
BEGIN:VEVENT
DTSTART;VALUE=DATE:20250703
DTEND;VALUE=DATE:20250704
DTSTAMP:20260421T202651
CREATED:20250621T064813Z
LAST-MODIFIED:20250706T081806Z
UID:16279-1751500800-1751587199@kidsloveqatar.com
SUMMARY:Splash After Dark at Desert Falls\, Hilton Salwa Beach Resort & Villas
DESCRIPTION:Splash After Dark at Desert Falls\, Hilton Salwa Beach Resort & Villas				\n				\n		\n		\n				\n				\n					Entertainment				\n				\n				\n				\n					June 21\, 2025 | 09:48 AM				\n				\n				\n		\n				\n				\n					\n				\n			\n				\n			\n				\n			\n				\n			\n				\n							\n				\n				\n				\n		\n				\n				\n																														\n				\n				\n				\n									Get ready for Splash After Dark at Desert Falls Water & Adventure Park— a night of entertainment\, food\, drinks\, and pure fun! Dance the night away with neon bracelets\, stilt walkers\, mirror men\, a LED dance floor\, bubblemachines\, and live DJ sets — all set against a stunning backdrop featuring laser light projections\, turning lights\, and a full LED setup. Refresh yourself with welcome mocktails\, smoothies\, coolers\, and much more from our food and beverage kiosks! 								\n				\n				\n				\n		\n		\n				\n				\n					Event Details				\n				\n				\n		\n					\n		\n		\n				\n				\n							\n							\n											\n													\n										Date\n									\n						\n						\n				\n				\n				\n									3 July & 31 July								\n				\n				\n		\n				\n				\n							\n							\n											\n													\n										Time\n									\n						\n						\n				\n				\n				\n									8:00 PM – Midnight								\n				\n				\n		\n				\n				\n							\n							\n											\n													\n										Price\n									\n						\n						\n				\n				\n				\n									QAR 150 per person (Visitors)QAR 100 per person (In-house guests) 								\n				\n				\n				\n		\n		\n				\n				\n							\n							\n											\n													\n										Location\n									\n						\n						\n				\n				\n				\n									Desert Falls Water & Adventure Park 								\n				\n				\n		\n				\n				\n							\n							\n											\n													\n										Age\n									\n						\n						\n				\n				\n				\n									12+ (must be accompanied by an adult) 								\n				\n				\n		\n				\n				\n					Official Links				\n				\n		\n				\n				\n									\n					\n						\n									Website\n					\n					\n				\n								\n				\n				\n				\n									\n					\n						\n						\n							\n									Contact\n					\n					\n				\n								\n				\n				\n				\n				\n					\n				\n		\n				\n				\n									\n					\n						\n									Call Now\n					\n					\n				\n								\n				\n				\n				\n					\n	\n		\n\n	\n	Add to calendar	\n		\n	\n\n		\n			\n									\n	Google Calendar\n\n									\n	iCalendar\n\n									\n	Outlook 365\n\n									\n	Outlook Live\n\n							\n		\n\n		\n	\n\n				\n				\n				\n				\n		\n		\n					\n				\n				\n					Get Location Here\n				\n				\n					\n				\n				\n				\n							\n			\n		\n						\n				\n				\n		\n		\n					\n				\n				\n									Note: Please be advised that the event details provided are based on the latest information available from the organizers and are subject to change. We recommend confirming all event details directly with the organizer before making any plans.								\n				\n					\n				\n				\n		\n		\n				\n				\n					Explore More Events				\n				\n				\n		\n					\n				\n				\n							\n				\n				\n			\n		\n					\n					\n				\n		\n					\n		\n				\n				\n							\n							\n											\n													\n										DECC\n									\n						\n						\n				\n				\n				\n					Sneaker Con Doha 2026 at DECC Sneaker Festival...				\n				\n				\n					\n				\n				\n				\n				\n			\n		\n					\n					\n				\n		\n					\n		\n				\n				\n							\n							\n											\n													\n										Katara South Parking\n									\n						\n						\n				\n				\n				\n					Hot Wheels Speed City Brings Thrills to Katara...				\n				\n				\n					\n				\n				\n				\n				\n			\n		\n					\n					\n				\n		\n					\n		\n				\n				\n							\n							\n											\n													\n										Mall of Qatar\n									\n						\n						\n				\n				\n				\n					Eid Al Fitr at Mall of Qatar with...				\n				\n				\n					\n				\n				\n				\n				\n			\n		\n					\n					\n				\n		\n					\n		\n				\n				\n							\n							\n											\n													\n										Lusail Boulevard\n									\n						\n						\n				\n				\n				\n					Fareej Snoonu: The Ramadan Village for Families and...				\n				\n				\n					\n				\n				\n				\n				\n			\n		\n					\n					\n				\n		\n					\n		\n				\n				\n							\n							\n											\n													\n										The Pearl and Gewan Islands\n									\n						\n						\n				\n				\n				\n					The Pearl Ramadan Bazaar 2026				\n				\n				\n					\n				\n				\n				\n				\n			\n		\n					\n					\n				\n		\n					\n		\n				\n				\n							\n							\n											\n													\n										Old Doha Port\n									\n						\n						\n				\n				\n				\n					Throwback Food Festival at Old Doha Port				\n				\n				\n					\n				\n				\n				\n				\n			\n		\n					\n					\n				\n		\n					\n		\n				\n				\n							\n							\n											\n													\n										Hyatt Plaza\n									\n						\n						\n				\n				\n				\n					Fontana Circus Qatar				\n				\n				\n					\n				\n				\n				\n				\n			\n		\n					\n					\n				\n		\n					\n		\n				\n				\n							\n							\n											\n													\n										Rixos Premium Qetaifan Island\n									\n						\n						\n				\n				\n				\n					Layali Ramadan at Rixos Premium Qetaifan Island North...				\n				\n				\n					\n				\n				\n				\n				\n			\n		\n					\n					\n				\n		\n					\n		\n				\n				\n							\n							\n											\n													\n										Old Doha Port\n									\n						\n						\n				\n				\n				\n					MOVE Sports Festival | National Sports Day Activities...				\n				\n				\n					\n				\n				\n				\n				\n			\n		\n					\n					\n				\n		\n					\n		\n				\n				\n							\n							\n											\n													\n										M7\, Msheireb\n									\n						\n						\n				\n				\n				\n					Art Basel Qatar: A Landmark Celebration of Contemporary...				\n				\n				\n					\n				\n				\n				\n				\n			\n		\n					\n					\n				\n		\n					\n		\n				\n				\n							\n							\n											\n													\n										Meryal Waterpark\n									\n						\n						\n				\n				\n				\n					Carnival Fun Days at Meryal Waterpark – Kids...				\n				\n				\n					\n				\n				\n				\n				\n			\n		\n					\n					\n				\n		\n					\n		\n				\n				\n							\n							\n											\n													\n										Sealine\n									\n						\n						\n				\n				\n				\n					Red Bull Dune Rush 2026				\n				\n				\n					\n				\n				\n				\n				\n			\n		\n					\n					\n				\n		\n					\n		\n				\n				\n							\n							\n											\n													\n										Sealine Beach\n									\n						\n						\n				\n				\n				\n					Ahl Al Janoub Camp: Fun Family Weekends at...				\n				\n				\n					\n				\n				\n				\n				\n			\n		\n					\n					\n				\n		\n					\n		\n				\n				\n							\n							\n											\n													\n										Education City Stadium\n									\n						\n						\n				\n				\n				\n					Education City Run 2026: Color Edition – Fun...				\n				\n				\n					\n				\n				\n				\n				\n			\n		\n					\n					\n				\n		\n					\n		\n				\n				\n							\n							\n											\n													\n										Mall of Qatar\n									\n						\n						\n				\n				\n				\n					Nickelodeon SpongeBob SquarePants at Mall of Qatar				\n				\n				\n					\n				\n				\n				\n				\n			\n		\n					\n					\n				\n		\n					\n		\n				\n				\n							\n							\n											\n													\n										The Pearl Island\n									\n						\n						\n				\n				\n				\n					Qanat Quartier Evenings: The Italian Experience 2026				\n				\n				\n					\n				\n				\n				\n				\n			\n		\n					\n					\n				\n		\n					\n		\n				\n				\n							\n							\n											\n													\n										Katara Cultural Village\n									\n						\n						\n				\n				\n				\n					Katara International Amber Exhibition 2026				\n				\n				\n					\n				\n				\n				\n				\n			\n		\n					\n					\n				\n		\n					\n		\n				\n				\n							\n							\n											\n													\n										Kahramaa Awareness Park\n									\n						\n						\n				\n				\n				\n					Tarsheed Carnival 2026				\n				\n				\n					\n				\n				\n				\n				\n			\n		\n					\n					\n				\n		\n					\n		\n				\n				\n							\n							\n											\n													\n										Old Doha Port\n									\n						\n						\n				\n				\n				\n					Qatar Kite Festival 2026				\n				\n				\n					\n				\n				\n				\n				\n			\n		\n					\n					\n				\n		\n					\n		\n				\n				\n							\n							\n											\n													\n										Sealine\n									\n						\n						\n				\n				\n				\n					Sealine Season: Family Entertainment\, Concerts & Motorsports in...
URL:https://kidsloveqatar.com/event/splash-after-dark-at-desert-falls-hilton-salwa-beach-resort-villas/
LOCATION:Desert Falls Water & Adventure Park\, RVX6+PR Abu Samra\, Qatar
CATEGORIES:Entertainment
ATTACH;FMTTYPE=image/webp:https://kidsloveqatar.com/wp-content/uploads/2025/06/Splash-After-Dark-–-Desert-Falls-at-Hilton-Salwa-Beach-Resort-Villas.webp
END:VEVENT
END:VCALENDAR