BEGIN:VCALENDAR
VERSION:2.0
PRODID:-//KidsloveQatar - ECPv6.15.20//NONSGML v1.0//EN
CALSCALE:GREGORIAN
METHOD:PUBLISH
X-WR-CALNAME:KidsloveQatar
X-ORIGINAL-URL:https://kidsloveqatar.com
X-WR-CALDESC:Events for KidsloveQatar
REFRESH-INTERVAL;VALUE=DURATION:PT1H
X-Robots-Tag:noindex
X-PUBLISHED-TTL:PT1H
BEGIN:VTIMEZONE
TZID:Asia/Qatar
BEGIN:STANDARD
TZOFFSETFROM:+0300
TZOFFSETTO:+0300
TZNAME:+03
DTSTART:20240101T000000
END:STANDARD
END:VTIMEZONE
BEGIN:VEVENT
DTSTART;VALUE=DATE:20250805
DTEND;VALUE=DATE:20250829
DTSTAMP:20260421T202819
CREATED:20250713T085940Z
LAST-MODIFIED:20250827T094001Z
UID:18457-1754352000-1756425599@kidsloveqatar.com
SUMMARY:InflataCity 2025
DESCRIPTION:InflataCity 2025				\n				\n		\n		\n				\n				\n					Entertainment				\n				\n				\n				\n					July 13\, 2025 | 11:59 AM				\n				\n				\n		\n				\n				\n					\n				\n			\n				\n			\n				\n			\n				\n			\n				\n							\n				\n				\n				\n		\n				\n				\n																														\n				\n				\n				\n									InflataCity 2025 is Qatar’s most exciting indoor event – a mega inflatable playground spanning 30\,000 sqm inside QNCC\, sponsored proudly by Qatar Calendar. This year’s edition boasts an upgraded experience with more activities\, more fun\, and more reasons to visit.\n\nExplore thrilling zones with new inflatables like CandyMaze\, Giant InflataSlide\, Inflata GoKart or Battle with your friends or arch nemesis at Paintless Paintball or Bazooka Ball. Whether you’re bouncing\, racing\, gaming\, or chilling in the VIP Lounge\, InflataCity has something for everyone – all indoors\, all air-conditioned\, all fun.\n\nWith entertainment options ranging from interactive carnival games to arcade classics\, cinema\, mascot performances\, and a massive food court\, this is your one-stop destination for summer joy. Get ready to beat the heat with Qatar’s coolest adventure all under one roof!								\n				\n				\n				\n		\n		\n				\n				\n					Event Details				\n				\n				\n		\n					\n		\n		\n				\n				\n							\n							\n											\n													\n										Date\n									\n						\n						\n				\n				\n				\n									5 August – 28 August 2025								\n				\n				\n		\n				\n				\n							\n							\n											\n													\n										Time\n									\n						\n						\n				\n				\n				\n									01:00 PM to 11:00 PM								\n				\n				\n		\n				\n				\n							\n							\n											\n													\n										Location\n									\n						\n						\n				\n				\n				\n									Hall 4 to 9\, QNCC								\n				\n				\n		\n				\n				\n					Official Links				\n				\n		\n				\n				\n									\n					\n						\n									Website\n					\n					\n				\n								\n				\n				\n				\n									\n					\n						\n						\n							\n									Visit\n					\n					\n				\n								\n				\n				\n				\n				\n		\n		\n				\n				\n							\n							\n											\n													\n										Price\n									\n						\n						\n				\n				\n				\n									General Entry: QAR 40InflataPass: QAR 75Super Pass: QAR 250Family Pass: QAR 300VIP Pass: QAR 350 								\n				\n				\n				\n					\n				\n		\n				\n				\n									\n					\n						\n									Book Ticket\n					\n					\n				\n								\n				\n				\n				\n					\n	\n		\n\n	\n	Add to calendar	\n		\n	\n\n		\n			\n									\n	Google Calendar\n\n									\n	iCalendar\n\n									\n	Outlook 365\n\n									\n	Outlook Live\n\n							\n		\n\n		\n	\n\n				\n				\n				\n				\n		\n		\n					\n				\n				\n					Get Location Here\n				\n				\n					\n				\n				\n				\n							\n			\n		\n						\n				\n				\n		\n		\n					\n				\n				\n									Note: Please be advised that the event details provided are based on the latest information available from the organizers and are subject to change. We recommend confirming all event details directly with the organizer before making any plans.								\n				\n					\n				\n				\n		\n		\n				\n				\n					Explore More Events				\n				\n				\n		\n					\n				\n				\n							\n				\n				\n			\n		\n					\n					\n				\n		\n					\n		\n				\n				\n							\n							\n											\n													\n										DECC\n									\n						\n						\n				\n				\n				\n					Sneaker Con Doha 2026 at DECC Sneaker Festival...				\n				\n				\n					\n				\n				\n				\n				\n			\n		\n					\n					\n				\n		\n					\n		\n				\n				\n							\n							\n											\n													\n										Katara South Parking\n									\n						\n						\n				\n				\n				\n					Hot Wheels Speed City Brings Thrills to Katara...				\n				\n				\n					\n				\n				\n				\n				\n			\n		\n					\n					\n				\n		\n					\n		\n				\n				\n							\n							\n											\n													\n										Mall of Qatar\n									\n						\n						\n				\n				\n				\n					Eid Al Fitr at Mall of Qatar with...				\n				\n				\n					\n				\n				\n				\n				\n			\n		\n					\n					\n				\n		\n					\n		\n				\n				\n							\n							\n											\n													\n										Lusail Boulevard\n									\n						\n						\n				\n				\n				\n					Fareej Snoonu: The Ramadan Village for Families and...				\n				\n				\n					\n				\n				\n				\n				\n			\n		\n					\n					\n				\n		\n					\n		\n				\n				\n							\n							\n											\n													\n										The Pearl and Gewan Islands\n									\n						\n						\n				\n				\n				\n					The Pearl Ramadan Bazaar 2026				\n				\n				\n					\n				\n				\n				\n				\n			\n		\n					\n					\n				\n		\n					\n		\n				\n				\n							\n							\n											\n													\n										Old Doha Port\n									\n						\n						\n				\n				\n				\n					Throwback Food Festival at Old Doha Port				\n				\n				\n					\n				\n				\n				\n				\n			\n		\n					\n					\n				\n		\n					\n		\n				\n				\n							\n							\n											\n													\n										Hyatt Plaza\n									\n						\n						\n				\n				\n				\n					Fontana Circus Qatar				\n				\n				\n					\n				\n				\n				\n				\n			\n		\n					\n					\n				\n		\n					\n		\n				\n				\n							\n							\n											\n													\n										Rixos Premium Qetaifan Island\n									\n						\n						\n				\n				\n				\n					Layali Ramadan at Rixos Premium Qetaifan Island North...				\n				\n				\n					\n				\n				\n				\n				\n			\n		\n					\n					\n				\n		\n					\n		\n				\n				\n							\n							\n											\n													\n										Old Doha Port\n									\n						\n						\n				\n				\n				\n					MOVE Sports Festival | National Sports Day Activities...				\n				\n				\n					\n				\n				\n				\n				\n			\n		\n					\n					\n				\n		\n					\n		\n				\n				\n							\n							\n											\n													\n										M7\, Msheireb\n									\n						\n						\n				\n				\n				\n					Art Basel Qatar: A Landmark Celebration of Contemporary...				\n				\n				\n					\n				\n				\n				\n				\n			\n		\n					\n					\n				\n		\n					\n		\n				\n				\n							\n							\n											\n													\n										Meryal Waterpark\n									\n						\n						\n				\n				\n				\n					Carnival Fun Days at Meryal Waterpark – Kids...				\n				\n				\n					\n				\n				\n				\n				\n			\n		\n					\n					\n				\n		\n					\n		\n				\n				\n							\n							\n											\n													\n										Sealine\n									\n						\n						\n				\n				\n				\n					Red Bull Dune Rush 2026				\n				\n				\n					\n				\n				\n				\n				\n			\n		\n					\n					\n				\n		\n					\n		\n				\n				\n							\n							\n											\n													\n										Sealine Beach\n									\n						\n						\n				\n				\n				\n					Ahl Al Janoub Camp: Fun Family Weekends at...				\n				\n				\n					\n				\n				\n				\n				\n			\n		\n					\n					\n				\n		\n					\n		\n				\n				\n							\n							\n											\n													\n										Education City Stadium\n									\n						\n						\n				\n				\n				\n					Education City Run 2026: Color Edition – Fun...				\n				\n				\n					\n				\n				\n				\n				\n			\n		\n					\n					\n				\n		\n					\n		\n				\n				\n							\n							\n											\n													\n										Mall of Qatar\n									\n						\n						\n				\n				\n				\n					Nickelodeon SpongeBob SquarePants at Mall of Qatar				\n				\n				\n					\n				\n				\n				\n				\n			\n		\n					\n					\n				\n		\n					\n		\n				\n				\n							\n							\n											\n													\n										The Pearl Island\n									\n						\n						\n				\n				\n				\n					Qanat Quartier Evenings: The Italian Experience 2026				\n				\n				\n					\n				\n				\n				\n				\n			\n		\n					\n					\n				\n		\n					\n		\n				\n				\n							\n							\n											\n													\n										Katara Cultural Village\n									\n						\n						\n				\n				\n				\n					Katara International Amber Exhibition 2026				\n				\n				\n					\n				\n				\n				\n				\n			\n		\n					\n					\n				\n		\n					\n		\n				\n				\n							\n							\n											\n													\n										Kahramaa Awareness Park\n									\n						\n						\n				\n				\n				\n					Tarsheed Carnival 2026				\n				\n				\n					\n				\n				\n				\n				\n			\n		\n					\n					\n				\n		\n					\n		\n				\n				\n							\n							\n											\n													\n										Old Doha Port\n									\n						\n						\n				\n				\n				\n					Qatar Kite Festival 2026				\n				\n				\n					\n				\n				\n				\n				\n			\n		\n					\n					\n				\n		\n					\n		\n				\n				\n							\n							\n											\n													\n										Sealine\n									\n						\n						\n				\n				\n				\n					Sealine Season: Family Entertainment\, Concerts & Motorsports in...
URL:https://kidsloveqatar.com/event/inflatacity-2025/
LOCATION:QNCC\, Qatar National Convention Centre (QNCC)\, Qatar
CATEGORIES:Entertainment
ATTACH;FMTTYPE=image/webp:https://kidsloveqatar.com/wp-content/uploads/2025/07/Inflata-City-2025.webp
END:VEVENT
END:VCALENDAR