BEGIN:VCALENDAR
VERSION:2.0
PRODID:-//KidsloveQatar - ECPv6.15.20//NONSGML v1.0//EN
CALSCALE:GREGORIAN
METHOD:PUBLISH
X-WR-CALNAME:KidsloveQatar
X-ORIGINAL-URL:https://kidsloveqatar.com
X-WR-CALDESC:Events for KidsloveQatar
REFRESH-INTERVAL;VALUE=DURATION:PT1H
X-Robots-Tag:noindex
X-PUBLISHED-TTL:PT1H
BEGIN:VTIMEZONE
TZID:Asia/Qatar
BEGIN:STANDARD
TZOFFSETFROM:+0300
TZOFFSETTO:+0300
TZNAME:+03
DTSTART:20230101T000000
END:STANDARD
END:VTIMEZONE
BEGIN:VEVENT
DTSTART;VALUE=DATE:20240926
DTEND;VALUE=DATE:20240930
DTSTAMP:20260423T125715
CREATED:20240910T182941Z
LAST-MODIFIED:20241014T091937Z
UID:2538-1727319600-1727578799@kidsloveqatar.com
SUMMARY:Hind in the Land of Sindh' Theatrical Play
DESCRIPTION:« All Events\n 				\n				\n				\n				\n					\n	Hind in the Land of Sindh’ Theatrical Play				\n				\n				\n				\n																														\n				\n				\n				\n					\n	\n		\n\n	\n	Add to calendar	\n		\n	\n\n		\n			\n									\n	Google Calendar\n\n									\n	iCalendar\n\n									\n	Outlook 365\n\n									\n	Outlook Live\n\n							\n		\n\n		\n	\n\n				\n				\n				\n				\n									Hind sets sail to the Land of Sindh with the hope of finding her feline friends and escaping the clutches of the evil sea sorceress Shankar.\nJoin us on this adventure with Hind in the Land of Sindh.\nFeaturing:\nAl-Ghalia\, Hanin Hussein\, Maryam Fahad\, Ajeebah Al-Dosari\, Rakan Al-Suhaili\, Muteb Al-Suhaili\, Bassam Al-Qahtani\, Faisal Al-Balooshi								\n				\n		\n		\n				\n				\n					Event Details:				\n				\n				\n				\n							\n							\n											\n													\n										26 - 28 September 2024\n									\n								\n											\n													\n										TBA\n									\n								\n											\n													\n										Katara Drama Theatre\n									\n								\n											\n													\n										Ticketed Event\n									\n						\n						\n				\n		\n				\n				\n									\n					\n						\n									Buy Ticket\n					\n					\n				\n								\n				\n				\n				\n									\n					\n						\n									Visit Website
URL:https://kidsloveqatar.com/event/hind-in-the-land-of-sindh-theatrical-play/
CATEGORIES:Qatar
ATTACH;FMTTYPE=image/webp:https://kidsloveqatar.com/wp-content/uploads/2024/09/Hind-in-the-Land-of-Sindh-Theatrical-Play.webp
END:VEVENT
END:VCALENDAR