BEGIN:VCALENDAR
VERSION:2.0
PRODID:-//KidsloveQatar - ECPv6.15.20//NONSGML v1.0//EN
CALSCALE:GREGORIAN
METHOD:PUBLISH
X-WR-CALNAME:KidsloveQatar
X-ORIGINAL-URL:https://kidsloveqatar.com
X-WR-CALDESC:Events for KidsloveQatar
REFRESH-INTERVAL;VALUE=DURATION:PT1H
X-Robots-Tag:noindex
X-PUBLISHED-TTL:PT1H
BEGIN:VTIMEZONE
TZID:Asia/Qatar
BEGIN:STANDARD
TZOFFSETFROM:+0300
TZOFFSETTO:+0300
TZNAME:+03
DTSTART:20240101T000000
END:STANDARD
END:VTIMEZONE
BEGIN:VEVENT
DTSTART;VALUE=DATE:20251101
DTEND;VALUE=DATE:20251102
DTSTAMP:20260422T012954
CREATED:20251028T195647Z
LAST-MODIFIED:20251028T200348Z
UID:29971-1761955200-1762041599@kidsloveqatar.com
SUMMARY:Ghinwa Kids Show Live
DESCRIPTION:Ghinwa Kids Show Live				\n				\n		\n		\n				\n				\n					Entertainment				\n				\n				\n				\n					October 28\, 2025 | 10:56 PM				\n				\n				\n		\n				\n				\n					\n				\n			\n				\n			\n				\n			\n				\n			\n				\n							\n				\n				\n				\n		\n				\n				\n																														\n				\n				\n				\n									Get ready\, the fun is about to begin! On November 1\, the Ghinwa Kids Show takes over the Mondrian Doha Hotel for a day filled with laughter\, music\, dancing\, and heart-warming stories your little ones will never forget. A World of Music\, Color\, and ImaginationIf your kids light up at sing-along moments\, bright costumes\, and cheerful characters\, this is the event for them! The Ghinwa Kids Show Live transforms the stage into a magical playground\, bringing to life the beloved Ghinwa characters that children across the Arab world adore. Expect catchy songs\, interactive storytelling\, and fun lessons wrapped in entertainment\, the perfect mix for both fun and learning. Why Families Love GhinwaFor years\, Ghinwa has been a household favorite among children’s shows\, combining creativity\, music\, and values in a way that keeps kids engaged from start to finish. Every performance sparks curiosity and imagination\, teaching little minds kindness\, teamwork\, and joy\, all while keeping parents smiling too. At the Mondrian Doha Hotel\, the experience becomes even more special with its vibrant atmosphere and family-friendly setting. It’s the ideal weekend outing\, safe\, lively\, and full of positive energy. Make It a Family Day to RememberFrom toddlers to tweens\, every child will find something to love in this enchanting performance. So\, gather the kids\, bring that sense of wonder\, and let Ghinwa’s world of music and joy brighten your family’s weekend. 								\n				\n				\n				\n		\n		\n				\n				\n					Event Details				\n				\n				\n		\n					\n		\n		\n				\n				\n							\n							\n											\n													\n										Date\n									\n						\n						\n				\n				\n				\n									1 November 2025								\n				\n				\n		\n				\n				\n							\n							\n											\n													\n										Time\n									\n						\n						\n				\n				\n				\n									4:00PM								\n				\n				\n		\n				\n				\n							\n							\n											\n													\n										Price\n									\n						\n						\n				\n				\n				\n									Starting from QAR 105								\n				\n				\n				\n		\n		\n				\n				\n							\n							\n											\n													\n										Location\n									\n						\n						\n				\n				\n				\n									Mondrian Hotel								\n				\n				\n		\n				\n				\n					Official Links				\n				\n		\n				\n				\n									\n					\n						\n									Website\n					\n					\n				\n								\n				\n				\n				\n									\n					\n						\n						\n							\n									Visit\n					\n					\n				\n								\n				\n				\n				\n				\n					\n				\n		\n				\n				\n									\n					\n						\n									Book Ticket\n					\n					\n				\n								\n				\n				\n				\n					\n	\n		\n\n	\n	Add to calendar	\n		\n	\n\n		\n			\n									\n	Google Calendar\n\n									\n	iCalendar\n\n									\n	Outlook 365\n\n									\n	Outlook Live\n\n							\n		\n\n		\n	\n\n				\n				\n				\n				\n		\n		\n					\n				\n				\n					Get Location Here\n				\n				\n					\n				\n				\n				\n							\n			\n		\n						\n				\n				\n		\n		\n					\n				\n				\n									Note: Please be advised that the event details provided are based on the latest information available from the organizers and are subject to change. We recommend confirming all event details directly with the organizer before making any plans.								\n				\n					\n				\n				\n		\n		\n				\n				\n					Explore More Events				\n				\n				\n		\n					\n				\n				\n							\n				\n				\n			\n		\n					\n					\n				\n		\n					\n		\n				\n				\n							\n							\n											\n													\n										DECC\n									\n						\n						\n				\n				\n				\n					Sneaker Con Doha 2026 at DECC Sneaker Festival...				\n				\n				\n					\n				\n				\n				\n				\n			\n		\n					\n					\n				\n		\n					\n		\n				\n				\n							\n							\n											\n													\n										Katara South Parking\n									\n						\n						\n				\n				\n				\n					Hot Wheels Speed City Brings Thrills to Katara...				\n				\n				\n					\n				\n				\n				\n				\n			\n		\n					\n					\n				\n		\n					\n		\n				\n				\n							\n							\n											\n													\n										Mall of Qatar\n									\n						\n						\n				\n				\n				\n					Eid Al Fitr at Mall of Qatar with...				\n				\n				\n					\n				\n				\n				\n				\n			\n		\n					\n					\n				\n		\n					\n		\n				\n				\n							\n							\n											\n													\n										Lusail Boulevard\n									\n						\n						\n				\n				\n				\n					Fareej Snoonu: The Ramadan Village for Families and...				\n				\n				\n					\n				\n				\n				\n				\n			\n		\n					\n					\n				\n		\n					\n		\n				\n				\n							\n							\n											\n													\n										The Pearl and Gewan Islands\n									\n						\n						\n				\n				\n				\n					The Pearl Ramadan Bazaar 2026				\n				\n				\n					\n				\n				\n				\n				\n			\n		\n					\n					\n				\n		\n					\n		\n				\n				\n							\n							\n											\n													\n										Old Doha Port\n									\n						\n						\n				\n				\n				\n					Throwback Food Festival at Old Doha Port				\n				\n				\n					\n				\n				\n				\n				\n			\n		\n					\n					\n				\n		\n					\n		\n				\n				\n							\n							\n											\n													\n										Hyatt Plaza\n									\n						\n						\n				\n				\n				\n					Fontana Circus Qatar				\n				\n				\n					\n				\n				\n				\n				\n			\n		\n					\n					\n				\n		\n					\n		\n				\n				\n							\n							\n											\n													\n										Rixos Premium Qetaifan Island\n									\n						\n						\n				\n				\n				\n					Layali Ramadan at Rixos Premium Qetaifan Island North...				\n				\n				\n					\n				\n				\n				\n				\n			\n		\n					\n					\n				\n		\n					\n		\n				\n				\n							\n							\n											\n													\n										Old Doha Port\n									\n						\n						\n				\n				\n				\n					MOVE Sports Festival | National Sports Day Activities...				\n				\n				\n					\n				\n				\n				\n				\n			\n		\n					\n					\n				\n		\n					\n		\n				\n				\n							\n							\n											\n													\n										M7\, Msheireb\n									\n						\n						\n				\n				\n				\n					Art Basel Qatar: A Landmark Celebration of Contemporary...				\n				\n				\n					\n				\n				\n				\n				\n			\n		\n					\n					\n				\n		\n					\n		\n				\n				\n							\n							\n											\n													\n										Meryal Waterpark\n									\n						\n						\n				\n				\n				\n					Carnival Fun Days at Meryal Waterpark – Kids...				\n				\n				\n					\n				\n				\n				\n				\n			\n		\n					\n					\n				\n		\n					\n		\n				\n				\n							\n							\n											\n													\n										Sealine\n									\n						\n						\n				\n				\n				\n					Red Bull Dune Rush 2026				\n				\n				\n					\n				\n				\n				\n				\n			\n		\n					\n					\n				\n		\n					\n		\n				\n				\n							\n							\n											\n													\n										Sealine Beach\n									\n						\n						\n				\n				\n				\n					Ahl Al Janoub Camp: Fun Family Weekends at...				\n				\n				\n					\n				\n				\n				\n				\n			\n		\n					\n					\n				\n		\n					\n		\n				\n				\n							\n							\n											\n													\n										Education City Stadium\n									\n						\n						\n				\n				\n				\n					Education City Run 2026: Color Edition – Fun...				\n				\n				\n					\n				\n				\n				\n				\n			\n		\n					\n					\n				\n		\n					\n		\n				\n				\n							\n							\n											\n													\n										Mall of Qatar\n									\n						\n						\n				\n				\n				\n					Nickelodeon SpongeBob SquarePants at Mall of Qatar				\n				\n				\n					\n				\n				\n				\n				\n			\n		\n					\n					\n				\n		\n					\n		\n				\n				\n							\n							\n											\n													\n										The Pearl Island\n									\n						\n						\n				\n				\n				\n					Qanat Quartier Evenings: The Italian Experience 2026				\n				\n				\n					\n				\n				\n				\n				\n			\n		\n					\n					\n				\n		\n					\n		\n				\n				\n							\n							\n											\n													\n										Katara Cultural Village\n									\n						\n						\n				\n				\n				\n					Katara International Amber Exhibition 2026				\n				\n				\n					\n				\n				\n				\n				\n			\n		\n					\n					\n				\n		\n					\n		\n				\n				\n							\n							\n											\n													\n										Kahramaa Awareness Park\n									\n						\n						\n				\n				\n				\n					Tarsheed Carnival 2026				\n				\n				\n					\n				\n				\n				\n				\n			\n		\n					\n					\n				\n		\n					\n		\n				\n				\n							\n							\n											\n													\n										Old Doha Port\n									\n						\n						\n				\n				\n				\n					Qatar Kite Festival 2026				\n				\n				\n					\n				\n				\n				\n				\n			\n		\n					\n					\n				\n		\n					\n		\n				\n				\n							\n							\n											\n													\n										Sealine\n									\n						\n						\n				\n				\n				\n					Sealine Season: Family Entertainment\, Concerts & Motorsports in...
URL:https://kidsloveqatar.com/event/ghinwa-kids-show-live/
LOCATION:Mondrian Hotel
CATEGORIES:Entertainment
ATTACH;FMTTYPE=image/webp:https://kidsloveqatar.com/wp-content/uploads/2025/10/Ghinwa-and-the-Sound-of-Music.webp
END:VEVENT
END:VCALENDAR