BEGIN:VCALENDAR
VERSION:2.0
PRODID:-//KidsloveQatar - ECPv6.15.20//NONSGML v1.0//EN
CALSCALE:GREGORIAN
METHOD:PUBLISH
X-WR-CALNAME:KidsloveQatar
X-ORIGINAL-URL:https://kidsloveqatar.com
X-WR-CALDESC:Events for KidsloveQatar
REFRESH-INTERVAL;VALUE=DURATION:PT1H
X-Robots-Tag:noindex
X-PUBLISHED-TTL:PT1H
BEGIN:VTIMEZONE
TZID:Asia/Qatar
BEGIN:STANDARD
TZOFFSETFROM:+0300
TZOFFSETTO:+0300
TZNAME:+03
DTSTART:20230101T000000
END:STANDARD
END:VTIMEZONE
BEGIN:VEVENT
DTSTART;VALUE=DATE:20241129
DTEND;VALUE=DATE:20241203
DTSTAMP:20260421T170707
CREATED:20240910T191610Z
LAST-MODIFIED:20241014T091558Z
UID:2588-1732849200-1733108399@kidsloveqatar.com
SUMMARY:Formula 1®  Qatar Airways  Qatar Grand Prix 2024
DESCRIPTION:« All Events\n 				\n				\n				\n				\n					\n	Formula 1®  Qatar Airways  Qatar Grand Prix 2024				\n				\n				\n				\n																														\n				\n				\n				\n					\n	\n		\n\n	\n	Add to calendar	\n		\n	\n\n		\n			\n									\n	Google Calendar\n\n									\n	iCalendar\n\n									\n	Outlook 365\n\n									\n	Outlook Live\n\n							\n		\n\n		\n	\n\n				\n				\n				\n				\n									Watch as your favourite F1 stars compete for a podium finish at the spectacular Lusail International Circuit – taking place on the weekend of 29 November to 1 December 2024. See you there!								\n				\n		\n		\n				\n				\n					Event Details:				\n				\n				\n				\n							\n							\n											\n													\n										29 November - 1 December 2024\n									\n								\n											\n													\n										TBA\n									\n								\n											\n													\n										Lusail Circuit Sports Club\n									\n								\n											\n													\n										Ticketed Event \n									\n						\n						\n				\n		\n				\n				\n									\n					\n						\n									Buy Tickets\n					\n					\n				\n								\n				\n				\n				\n									\n					\n						\n									Visit Website
URL:https://kidsloveqatar.com/event/formula-1-qatar-airways-qatar-grand-prix-2024/
CATEGORIES:Qatar
ATTACH;FMTTYPE=image/webp:https://kidsloveqatar.com/wp-content/uploads/2024/09/Formula-1®-Qatar-Airways-Qatar-Grand-Prix-2024.webp
END:VEVENT
END:VCALENDAR