BEGIN:VCALENDAR
VERSION:2.0
PRODID:-//KidsloveQatar - ECPv6.15.20//NONSGML v1.0//EN
CALSCALE:GREGORIAN
METHOD:PUBLISH
X-WR-CALNAME:KidsloveQatar
X-ORIGINAL-URL:https://kidsloveqatar.com
X-WR-CALDESC:Events for KidsloveQatar
REFRESH-INTERVAL;VALUE=DURATION:PT1H
X-Robots-Tag:noindex
X-PUBLISHED-TTL:PT1H
BEGIN:VTIMEZONE
TZID:Asia/Qatar
BEGIN:STANDARD
TZOFFSETFROM:+0300
TZOFFSETTO:+0300
TZNAME:+03
DTSTART:20230101T000000
END:STANDARD
END:VTIMEZONE
BEGIN:VEVENT
DTSTART;VALUE=DATE:20241028
DTEND;VALUE=DATE:20241104
DTSTAMP:20260421T152018
CREATED:20240910T184416Z
LAST-MODIFIED:20241014T091500Z
UID:2548-1730084400-1730602799@kidsloveqatar.com
SUMMARY:FIP World Padel Championships 2024
DESCRIPTION:« All Events\n 				\n				\n				\n				\n					\n	FIP World Padel Championships 2024				\n				\n				\n				\n																														\n				\n				\n				\n					\n	\n		\n\n	\n	Add to calendar	\n		\n	\n\n		\n			\n									\n	Google Calendar\n\n									\n	iCalendar\n\n									\n	Outlook 365\n\n									\n	Outlook Live\n\n							\n		\n\n		\n	\n\n				\n				\n				\n				\n									The International Padel Federation (FIP) and Qatar Tennis Federation have confirmed that the host city of this year’s World Padel Championships (28 October-2 November) will be Doha. 								\n				\n		\n		\n				\n				\n					Event Details:				\n				\n				\n				\n							\n							\n											\n													\n										28 October  - 2 November 2024\n									\n								\n											\n													\n										TBA\n									\n								\n											\n													\n										Khalifa International Tennis & Squash Complex\n									\n								\n											\n													\n										TBA\n									\n						\n						\n				\n		\n				\n				\n									\n					\n						\n									Visit Website
URL:https://kidsloveqatar.com/event/fip-world-padel-championships-2024/
CATEGORIES:Qatar
ATTACH;FMTTYPE=image/webp:https://kidsloveqatar.com/wp-content/uploads/2024/09/FIP-World-Padel-Championships-2024.webp
END:VEVENT
END:VCALENDAR