BEGIN:VCALENDAR
VERSION:2.0
PRODID:-//KidsloveQatar - ECPv6.15.20//NONSGML v1.0//EN
CALSCALE:GREGORIAN
METHOD:PUBLISH
X-WR-CALNAME:KidsloveQatar
X-ORIGINAL-URL:https://kidsloveqatar.com
X-WR-CALDESC:Events for KidsloveQatar
REFRESH-INTERVAL;VALUE=DURATION:PT1H
X-Robots-Tag:noindex
X-PUBLISHED-TTL:PT1H
BEGIN:VTIMEZONE
TZID:Asia/Qatar
BEGIN:STANDARD
TZOFFSETFROM:+0300
TZOFFSETTO:+0300
TZNAME:+03
DTSTART:20240101T000000
END:STANDARD
END:VTIMEZONE
BEGIN:VEVENT
DTSTART;TZID=Asia/Qatar:20250606T170000
DTEND;TZID=Asia/Qatar:20250614T000000
DTSTAMP:20260421T151443
CREATED:20250531T132728Z
LAST-MODIFIED:20250531T134152Z
UID:14315-1749229200-1749859200@kidsloveqatar.com
SUMMARY:Eid Ventures: Sunset Pearl Paddling
DESCRIPTION:Eid Ventures: Sunset Pearl Paddling				\n				\n		\n		\n				\n				\n					Entertainment				\n				\n				\n				\n					May 31\, 2025 | 04:27 PM				\n				\n				\n		\n				\n				\n					\n				\n			\n				\n			\n				\n			\n				\n			\n				\n							\n				\n				\n				\n		\n				\n				\n																														\n				\n				\n				\n									Celebrate Eid with a sunset paddling adventure at The Pearl–Qatar\, offering a serene and scenic experience all week long during the Eid holidays. Set against the breathtaking Porto Arabia skyline\, this exclusive 60-minute guided session lets you explore the calm waters during golden hour. Choose between a kayak or stand-up paddleboard (SUP) and enjoy a refreshing journey. 								\n				\n				\n				\n		\n		\n				\n				\n					Event Details				\n				\n				\n		\n					\n		\n		\n				\n				\n							\n							\n											\n													\n										Date\n									\n						\n						\n				\n				\n				\n									June 6 – June 14 2025 								\n				\n				\n		\n				\n				\n							\n							\n											\n													\n										Time\n									\n						\n						\n				\n				\n				\n									05:00 PM Onwards 								\n				\n				\n		\n				\n				\n							\n							\n											\n													\n										Location\n									\n						\n						\n				\n				\n				\n									The Pearl\, Doha 								\n				\n				\n		\n				\n				\n							\n							\n											\n													\n										Meeting Point\n									\n						\n						\n				\n				\n				\n									Porto Arabia 23 								\n				\n				\n		\n				\n				\n							\n							\n											\n													\n										Price\n									\n						\n						\n				\n				\n				\n									QAR 150 per person 								\n				\n				\n		\n				\n				\n							\n							\n											\n													\n										Age Group\n									\n						\n						\n				\n				\n				\n									12 years and above 								\n				\n				\n				\n		\n		\n				\n				\n							\n							\n											\n													\n										Inclusions\n									\n						\n						\n				\n				\n				\n									Kayaking/SUP InstructorIntroductory Kayaking Session & safety instructionsLife JacketsKayaks and paddlesAssistance in taking photos60 minutes approx. of KayakingLemonadesInsurance 								\n				\n				\n		\n				\n				\n							\n							\n											\n													\n										Exclusions\n									\n						\n						\n				\n				\n				\n									Meals\nTowels								\n				\n				\n		\n				\n				\n					Official Links				\n				\n		\n				\n				\n									\n					\n						\n									Website\n					\n					\n				\n								\n				\n				\n				\n									\n					\n						\n						\n							\n									Visit\n					\n					\n				\n								\n				\n				\n				\n									\n					\n						\n						\n							\n									Contact\n					\n					\n				\n								\n				\n				\n				\n				\n					\n				\n		\n				\n				\n									\n					\n						\n									Book Ticket\n					\n					\n				\n								\n				\n				\n				\n					\n	\n		\n\n	\n	Add to calendar	\n		\n	\n\n		\n			\n									\n	Google Calendar\n\n									\n	iCalendar\n\n									\n	Outlook 365\n\n									\n	Outlook Live\n\n							\n		\n\n		\n	\n\n				\n				\n				\n				\n		\n				\n				\n							\n			\n											\n					\n						\n				\n				\n		\n		\n					\n				\n				\n					Get Location Here\n				\n				\n					\n				\n				\n				\n							\n			\n		\n						\n				\n				\n		\n		\n					\n				\n				\n									Note: Please be advised that the event details provided are based on the latest information available from the organizers and are subject to change. We recommend confirming all event details directly with the organizer before making any plans. 								\n				\n					\n				\n				\n		\n		\n				\n				\n					Explore More Events				\n				\n				\n		\n					\n				\n				\n							\n				\n				\n			\n		\n					\n					\n				\n		\n					\n		\n				\n				\n							\n							\n											\n													\n										DECC\n									\n						\n						\n				\n				\n				\n					Sneaker Con Doha 2026 at DECC Sneaker Festival...				\n				\n				\n					\n				\n				\n				\n				\n			\n		\n					\n					\n				\n		\n					\n		\n				\n				\n							\n							\n											\n													\n										Katara South Parking\n									\n						\n						\n				\n				\n				\n					Hot Wheels Speed City Brings Thrills to Katara...				\n				\n				\n					\n				\n				\n				\n				\n			\n		\n					\n					\n				\n		\n					\n		\n				\n				\n							\n							\n											\n													\n										Mall of Qatar\n									\n						\n						\n				\n				\n				\n					Eid Al Fitr at Mall of Qatar with...				\n				\n				\n					\n				\n				\n				\n				\n			\n		\n					\n					\n				\n		\n					\n		\n				\n				\n							\n							\n											\n													\n										Lusail Boulevard\n									\n						\n						\n				\n				\n				\n					Fareej Snoonu: The Ramadan Village for Families and...				\n				\n				\n					\n				\n				\n				\n				\n			\n		\n					\n					\n				\n		\n					\n		\n				\n				\n							\n							\n											\n													\n										The Pearl and Gewan Islands\n									\n						\n						\n				\n				\n				\n					The Pearl Ramadan Bazaar 2026				\n				\n				\n					\n				\n				\n				\n				\n			\n		\n					\n					\n				\n		\n					\n		\n				\n				\n							\n							\n											\n													\n										Old Doha Port\n									\n						\n						\n				\n				\n				\n					Throwback Food Festival at Old Doha Port				\n				\n				\n					\n				\n				\n				\n				\n			\n		\n					\n					\n				\n		\n					\n		\n				\n				\n							\n							\n											\n													\n										Hyatt Plaza\n									\n						\n						\n				\n				\n				\n					Fontana Circus Qatar				\n				\n				\n					\n				\n				\n				\n				\n			\n		\n					\n					\n				\n		\n					\n		\n				\n				\n							\n							\n											\n													\n										Rixos Premium Qetaifan Island\n									\n						\n						\n				\n				\n				\n					Layali Ramadan at Rixos Premium Qetaifan Island North...				\n				\n				\n					\n				\n				\n				\n				\n			\n		\n					\n					\n				\n		\n					\n		\n				\n				\n							\n							\n											\n													\n										Old Doha Port\n									\n						\n						\n				\n				\n				\n					MOVE Sports Festival | National Sports Day Activities...				\n				\n				\n					\n				\n				\n				\n				\n			\n		\n					\n					\n				\n		\n					\n		\n				\n				\n							\n							\n											\n													\n										M7\, Msheireb\n									\n						\n						\n				\n				\n				\n					Art Basel Qatar: A Landmark Celebration of Contemporary...				\n				\n				\n					\n				\n				\n				\n				\n			\n		\n					\n					\n				\n		\n					\n		\n				\n				\n							\n							\n											\n													\n										Meryal Waterpark\n									\n						\n						\n				\n				\n				\n					Carnival Fun Days at Meryal Waterpark – Kids...				\n				\n				\n					\n				\n				\n				\n				\n			\n		\n					\n					\n				\n		\n					\n		\n				\n				\n							\n							\n											\n													\n										Sealine\n									\n						\n						\n				\n				\n				\n					Red Bull Dune Rush 2026				\n				\n				\n					\n				\n				\n				\n				\n			\n		\n					\n					\n				\n		\n					\n		\n				\n				\n							\n							\n											\n													\n										Sealine Beach\n									\n						\n						\n				\n				\n				\n					Ahl Al Janoub Camp: Fun Family Weekends at...				\n				\n				\n					\n				\n				\n				\n				\n			\n		\n					\n					\n				\n		\n					\n		\n				\n				\n							\n							\n											\n													\n										Education City Stadium\n									\n						\n						\n				\n				\n				\n					Education City Run 2026: Color Edition – Fun...				\n				\n				\n					\n				\n				\n				\n				\n			\n		\n					\n					\n				\n		\n					\n		\n				\n				\n							\n							\n											\n													\n										Mall of Qatar\n									\n						\n						\n				\n				\n				\n					Nickelodeon SpongeBob SquarePants at Mall of Qatar				\n				\n				\n					\n				\n				\n				\n				\n			\n		\n					\n					\n				\n		\n					\n		\n				\n				\n							\n							\n											\n													\n										The Pearl Island\n									\n						\n						\n				\n				\n				\n					Qanat Quartier Evenings: The Italian Experience 2026				\n				\n				\n					\n				\n				\n				\n				\n			\n		\n					\n					\n				\n		\n					\n		\n				\n				\n							\n							\n											\n													\n										Katara Cultural Village\n									\n						\n						\n				\n				\n				\n					Katara International Amber Exhibition 2026				\n				\n				\n					\n				\n				\n				\n				\n			\n		\n					\n					\n				\n		\n					\n		\n				\n				\n							\n							\n											\n													\n										Kahramaa Awareness Park\n									\n						\n						\n				\n				\n				\n					Tarsheed Carnival 2026				\n				\n				\n					\n				\n				\n				\n				\n			\n		\n					\n					\n				\n		\n					\n		\n				\n				\n							\n							\n											\n													\n										Old Doha Port\n									\n						\n						\n				\n				\n				\n					Qatar Kite Festival 2026				\n				\n				\n					\n				\n				\n				\n				\n			\n		\n					\n					\n				\n		\n					\n		\n				\n				\n							\n							\n											\n													\n										Sealine\n									\n						\n						\n				\n				\n				\n					Sealine Season: Family Entertainment\, Concerts & Motorsports in...
URL:https://kidsloveqatar.com/event/eid-ventures-sunset-pearl-paddling/
LOCATION:The Pearl
CATEGORIES:Entertainment
ATTACH;FMTTYPE=image/webp:https://kidsloveqatar.com/wp-content/uploads/2025/05/Sunset-padding.webp
END:VEVENT
END:VCALENDAR