BEGIN:VCALENDAR
VERSION:2.0
PRODID:-//KidsloveQatar - ECPv6.15.20//NONSGML v1.0//EN
CALSCALE:GREGORIAN
METHOD:PUBLISH
X-WR-CALNAME:KidsloveQatar
X-ORIGINAL-URL:https://kidsloveqatar.com
X-WR-CALDESC:Events for KidsloveQatar
REFRESH-INTERVAL;VALUE=DURATION:PT1H
X-Robots-Tag:noindex
X-PUBLISHED-TTL:PT1H
BEGIN:VTIMEZONE
TZID:Asia/Qatar
BEGIN:STANDARD
TZOFFSETFROM:+0300
TZOFFSETTO:+0300
TZNAME:+03
DTSTART:20240101T000000
END:STANDARD
END:VTIMEZONE
BEGIN:VEVENT
DTSTART;VALUE=DATE:20250605
DTEND;VALUE=DATE:20250614
DTSTAMP:20260421T170736
CREATED:20250603T085121Z
LAST-MODIFIED:20250603T120627Z
UID:14618-1749081600-1749859199@kidsloveqatar.com
SUMMARY:Eid Getaway Celebration at Regency Sealine Camp
DESCRIPTION:Eid Getaway Celebration at Regency Sealine Camp				\n				\n		\n		\n				\n				\n					Entertainment				\n				\n				\n				\n					June 3\, 2025 | 11:51 AM				\n				\n				\n		\n				\n				\n					\n				\n			\n				\n			\n				\n			\n				\n			\n				\n							\n				\n				\n				\n		\n				\n				\n																														\n				\n				\n				\n									Celebrate Eid Al-Adha 2025 at Regency Sealine Camp from June 5 to 13 with a vibrant beachside escape packed with fun and relaxation for the whole family! Enjoy live DJ performances\, beachside kids’ activities\, henna art\, face painting\, fun games with exciting prizes\, and thrilling clown and acrobatic shows. Whether you’re relaxing by the beach or joining the festive fun\, there’s something to delight everyone. Enjoy a joyful blend of entertainment\, comfort\, and scenic beauty this Eid at Regency Sealine Camp! 								\n				\n				\n				\n		\n		\n				\n				\n					Event Details				\n				\n				\n		\n					\n		\n		\n				\n				\n							\n							\n											\n													\n										Date\n									\n						\n						\n				\n				\n				\n									June 5 – 13\, 2025 								\n				\n				\n		\n				\n				\n							\n							\n											\n													\n										Location\n									\n						\n						\n				\n				\n				\n									Regency Sealine Camp\, Sealine 								\n				\n				\n		\n				\n				\n					Official Links				\n				\n		\n				\n				\n									\n					\n						\n									Website\n					\n					\n				\n								\n				\n				\n				\n									\n					\n						\n						\n							\n									Visit\n					\n					\n				\n								\n				\n				\n				\n									\n					\n						\n						\n							\n									Contact\n					\n					\n				\n								\n				\n				\n				\n				\n		\n		\n				\n				\n							\n							\n											\n													\n										Price\n									\n						\n						\n				\n				\n				\n									Overnight Getaway Package from QAR 999 – includes meals\, transport\, quad biking or horse riding & falcon photo shoot! Enjoy Beach Access with lunch or dinner – Adults QAR 199 | Kids QAR 99  | Under 5 Free! 								\n				\n				\n				\n					\n				\n		\n				\n				\n									\n					\n						\n									Book Ticket\n					\n					\n				\n								\n				\n				\n				\n					\n	\n		\n\n	\n	Add to calendar	\n		\n	\n\n		\n			\n									\n	Google Calendar\n\n									\n	iCalendar\n\n									\n	Outlook 365\n\n									\n	Outlook Live\n\n							\n		\n\n		\n	\n\n				\n				\n				\n				\n		\n		\n					\n				\n				\n					Get Location Here\n				\n				\n					\n				\n				\n				\n							\n			\n		\n						\n				\n				\n		\n		\n					\n				\n				\n									Note: Please be advised that the event details provided are based on the latest information available from the organizers and are subject to change. We recommend confirming all event details directly with the organizer before making any plans. 								\n				\n					\n				\n				\n		\n		\n				\n				\n					Explore More Events				\n				\n				\n		\n					\n				\n				\n							\n				\n				\n			\n		\n					\n					\n				\n		\n					\n		\n				\n				\n							\n							\n											\n													\n										DECC\n									\n						\n						\n				\n				\n				\n					Sneaker Con Doha 2026 at DECC Sneaker Festival...				\n				\n				\n					\n				\n				\n				\n				\n			\n		\n					\n					\n				\n		\n					\n		\n				\n				\n							\n							\n											\n													\n										Katara South Parking\n									\n						\n						\n				\n				\n				\n					Hot Wheels Speed City Brings Thrills to Katara...				\n				\n				\n					\n				\n				\n				\n				\n			\n		\n					\n					\n				\n		\n					\n		\n				\n				\n							\n							\n											\n													\n										Mall of Qatar\n									\n						\n						\n				\n				\n				\n					Eid Al Fitr at Mall of Qatar with...				\n				\n				\n					\n				\n				\n				\n				\n			\n		\n					\n					\n				\n		\n					\n		\n				\n				\n							\n							\n											\n													\n										Lusail Boulevard\n									\n						\n						\n				\n				\n				\n					Fareej Snoonu: The Ramadan Village for Families and...				\n				\n				\n					\n				\n				\n				\n				\n			\n		\n					\n					\n				\n		\n					\n		\n				\n				\n							\n							\n											\n													\n										The Pearl and Gewan Islands\n									\n						\n						\n				\n				\n				\n					The Pearl Ramadan Bazaar 2026				\n				\n				\n					\n				\n				\n				\n				\n			\n		\n					\n					\n				\n		\n					\n		\n				\n				\n							\n							\n											\n													\n										Old Doha Port\n									\n						\n						\n				\n				\n				\n					Throwback Food Festival at Old Doha Port				\n				\n				\n					\n				\n				\n				\n				\n			\n		\n					\n					\n				\n		\n					\n		\n				\n				\n							\n							\n											\n													\n										Hyatt Plaza\n									\n						\n						\n				\n				\n				\n					Fontana Circus Qatar				\n				\n				\n					\n				\n				\n				\n				\n			\n		\n					\n					\n				\n		\n					\n		\n				\n				\n							\n							\n											\n													\n										Rixos Premium Qetaifan Island\n									\n						\n						\n				\n				\n				\n					Layali Ramadan at Rixos Premium Qetaifan Island North...				\n				\n				\n					\n				\n				\n				\n				\n			\n		\n					\n					\n				\n		\n					\n		\n				\n				\n							\n							\n											\n													\n										Old Doha Port\n									\n						\n						\n				\n				\n				\n					MOVE Sports Festival | National Sports Day Activities...				\n				\n				\n					\n				\n				\n				\n				\n			\n		\n					\n					\n				\n		\n					\n		\n				\n				\n							\n							\n											\n													\n										M7\, Msheireb\n									\n						\n						\n				\n				\n				\n					Art Basel Qatar: A Landmark Celebration of Contemporary...				\n				\n				\n					\n				\n				\n				\n				\n			\n		\n					\n					\n				\n		\n					\n		\n				\n				\n							\n							\n											\n													\n										Meryal Waterpark\n									\n						\n						\n				\n				\n				\n					Carnival Fun Days at Meryal Waterpark – Kids...				\n				\n				\n					\n				\n				\n				\n				\n			\n		\n					\n					\n				\n		\n					\n		\n				\n				\n							\n							\n											\n													\n										Sealine\n									\n						\n						\n				\n				\n				\n					Red Bull Dune Rush 2026				\n				\n				\n					\n				\n				\n				\n				\n			\n		\n					\n					\n				\n		\n					\n		\n				\n				\n							\n							\n											\n													\n										Sealine Beach\n									\n						\n						\n				\n				\n				\n					Ahl Al Janoub Camp: Fun Family Weekends at...				\n				\n				\n					\n				\n				\n				\n				\n			\n		\n					\n					\n				\n		\n					\n		\n				\n				\n							\n							\n											\n													\n										Education City Stadium\n									\n						\n						\n				\n				\n				\n					Education City Run 2026: Color Edition – Fun...				\n				\n				\n					\n				\n				\n				\n				\n			\n		\n					\n					\n				\n		\n					\n		\n				\n				\n							\n							\n											\n													\n										Mall of Qatar\n									\n						\n						\n				\n				\n				\n					Nickelodeon SpongeBob SquarePants at Mall of Qatar				\n				\n				\n					\n				\n				\n				\n				\n			\n		\n					\n					\n				\n		\n					\n		\n				\n				\n							\n							\n											\n													\n										The Pearl Island\n									\n						\n						\n				\n				\n				\n					Qanat Quartier Evenings: The Italian Experience 2026				\n				\n				\n					\n				\n				\n				\n				\n			\n		\n					\n					\n				\n		\n					\n		\n				\n				\n							\n							\n											\n													\n										Katara Cultural Village\n									\n						\n						\n				\n				\n				\n					Katara International Amber Exhibition 2026				\n				\n				\n					\n				\n				\n				\n				\n			\n		\n					\n					\n				\n		\n					\n		\n				\n				\n							\n							\n											\n													\n										Kahramaa Awareness Park\n									\n						\n						\n				\n				\n				\n					Tarsheed Carnival 2026				\n				\n				\n					\n				\n				\n				\n				\n			\n		\n					\n					\n				\n		\n					\n		\n				\n				\n							\n							\n											\n													\n										Old Doha Port\n									\n						\n						\n				\n				\n				\n					Qatar Kite Festival 2026				\n				\n				\n					\n				\n				\n				\n				\n			\n		\n					\n					\n				\n		\n					\n		\n				\n				\n							\n							\n											\n													\n										Sealine\n									\n						\n						\n				\n				\n				\n					Sealine Season: Family Entertainment\, Concerts & Motorsports in...
URL:https://kidsloveqatar.com/event/eid-getaway-celebration-at-regency-sealine-camp/
LOCATION:Regency Sealine Camp
CATEGORIES:Entertainment
ATTACH;FMTTYPE=image/webp:https://kidsloveqatar.com/wp-content/uploads/2025/06/Regency-Sealine-Camp.webp
END:VEVENT
END:VCALENDAR