BEGIN:VCALENDAR
VERSION:2.0
PRODID:-//KidsloveQatar - ECPv6.15.20//NONSGML v1.0//EN
CALSCALE:GREGORIAN
METHOD:PUBLISH
X-WR-CALNAME:KidsloveQatar
X-ORIGINAL-URL:https://kidsloveqatar.com
X-WR-CALDESC:Events for KidsloveQatar
REFRESH-INTERVAL;VALUE=DURATION:PT1H
X-Robots-Tag:noindex
X-PUBLISHED-TTL:PT1H
BEGIN:VTIMEZONE
TZID:Asia/Qatar
BEGIN:STANDARD
TZOFFSETFROM:+0300
TZOFFSETTO:+0300
TZNAME:+03
DTSTART:20230101T000000
END:STANDARD
END:VTIMEZONE
BEGIN:VEVENT
DTSTART;VALUE=DATE:20240926
DTEND;VALUE=DATE:20240930
DTSTAMP:20260421T151936
CREATED:20240910T083231Z
LAST-MODIFIED:20241014T091918Z
UID:2503-1727319600-1727578799@kidsloveqatar.com
SUMMARY:Doha International  Coffee Exhibition 2024
DESCRIPTION:« All Events\n 				\n				\n				\n				\n					\n	Doha International  Coffee Exhibition 2024				\n				\n				\n				\n																														\n				\n				\n				\n					\n	\n		\n\n	\n	Add to calendar	\n		\n	\n\n		\n			\n									\n	Google Calendar\n\n									\n	iCalendar\n\n									\n	Outlook 365\n\n									\n	Outlook Live\n\n							\n		\n\n		\n	\n\n				\n				\n				\n				\n									Qatar hosts a renowned coffee exhibition that has been inspiring the global coffee industry for over a decade. It’s a vibrant platform showcasing innovation\, education\, and coffee commerce.								\n				\n		\n		\n				\n				\n					Event Details:				\n				\n				\n				\n							\n							\n											\n													\n										26 - 28 September 2024\n									\n								\n											\n													\n										10:00am - 10:00pm Friday: From 2:00 pm till 11:00pm\n									\n								\n											\n													\n										Doha Exhibition & Convention Center (DECC)\n									\n								\n											\n													\n										Free\, Open to The Public \n									\n						\n						\n				\n		\n				\n				\n									\n					\n						\n									Visit Website
URL:https://kidsloveqatar.com/event/doha-international-coffee-exhibition-2024/
CATEGORIES:Qatar
ATTACH;FMTTYPE=image/webp:https://kidsloveqatar.com/wp-content/uploads/2024/09/DOHA-INTERNATIONAL-COFFEE-EXHIBITION-2024.webp
END:VEVENT
END:VCALENDAR