BEGIN:VCALENDAR
VERSION:2.0
PRODID:-//KidsloveQatar - ECPv6.15.20//NONSGML v1.0//EN
CALSCALE:GREGORIAN
METHOD:PUBLISH
X-WR-CALNAME:KidsloveQatar
X-ORIGINAL-URL:https://kidsloveqatar.com
X-WR-CALDESC:Events for KidsloveQatar
REFRESH-INTERVAL;VALUE=DURATION:PT1H
X-Robots-Tag:noindex
X-PUBLISHED-TTL:PT1H
BEGIN:VTIMEZONE
TZID:Asia/Qatar
BEGIN:STANDARD
TZOFFSETFROM:+0300
TZOFFSETTO:+0300
TZNAME:+03
DTSTART:20230101T000000
END:STANDARD
END:VTIMEZONE
BEGIN:VEVENT
DTSTART;VALUE=DATE:20240930
DTEND;VALUE=DATE:20241007
DTSTAMP:20260421T170721
CREATED:20240910T185841Z
LAST-MODIFIED:20241014T092012Z
UID:2563-1727665200-1728183599@kidsloveqatar.com
SUMMARY:3rd Qatar Asian Junior Tournament 14 Years & Under (Tennis)
DESCRIPTION:« All Events\n 				\n				\n				\n				\n					\n	3rd Qatar Asian Junior Tournament 14 Years & Under (Tennis)				\n				\n				\n				\n																														\n				\n				\n				\n					\n	\n		\n\n	\n	Add to calendar	\n		\n	\n\n		\n			\n									\n	Google Calendar\n\n									\n	iCalendar\n\n									\n	Outlook 365\n\n									\n	Outlook Live\n\n							\n		\n\n		\n	\n\n				\n				\n				\n				\n									3rd Qatar Asian Junior Tournament 14 Years & Under (Tennis)\nOrganized by Qatar Tennis\, Squash and Badminton Federation\nVenue: Khalifa Intel. Tennis & Squash Complex								\n				\n		\n		\n				\n				\n					Event Details:				\n				\n				\n				\n							\n							\n											\n													\n										30 September - 5 October 2024\n									\n								\n											\n													\n										TBA\n									\n								\n											\n													\n										Khalifa Tennis and Squash Complex\n									\n								\n											\n													\n										TBA\n									\n						\n						\n				\n		\n				\n				\n									\n					\n						\n									Visit Website
URL:https://kidsloveqatar.com/event/3rd-qatar-asian-junior-tournament-14-years-under-tennis/
CATEGORIES:Qatar
ATTACH;FMTTYPE=image/webp:https://kidsloveqatar.com/wp-content/uploads/2024/09/3rd-Qatar-Asian-Junior-Tournament-14-Years-Under-Tennis.webp
END:VEVENT
END:VCALENDAR